BEGIN:VCALENDAR
VERSION:2.0
PRODID:-//Drupal//DD Create//EN
METHOD:PUBLISH
BEGIN:VEVENT
UID:dd_create.3542.0
DTSTAMP:20260422T050306Z
DTSTART:20200219T000000Z
DTEND:20200219T013000Z
SUMMARY:Football Tryouts
URL;VALUE=URI:https://www.sthope.org/event/football-tryouts
END:VEVENT
END:VCALENDAR
