BEGIN:VCALENDAR
VERSION:2.0
PRODID:-//Drupal//DD Create//EN
METHOD:PUBLISH
BEGIN:VEVENT
UID:dd_create.3535.0
DTSTAMP:20260420T135600Z
DTSTART:20200214T080000Z
DTEND:20200214T080000Z
SUMMARY:Half Day
URL;VALUE=URI:https://www.sthope.org/event/half-day-0
END:VEVENT
END:VCALENDAR
