BEGIN:VCALENDAR
VERSION:2.0
PRODID:-//Drupal//DD Create//EN
METHOD:PUBLISH
BEGIN:VEVENT
UID:dd_create.3534.0
DTSTAMP:20260425T141108Z
DTSTART:20200220T080000Z
DTEND:20200220T080000Z
SUMMARY:STEM Night
URL;VALUE=URI:https://www.sthope.org/event/stem-night
END:VEVENT
END:VCALENDAR
