BEGIN:VCALENDAR
VERSION:2.0
PRODID:-//Drupal//DD Create//EN
METHOD:PUBLISH
BEGIN:VEVENT
UID:dd_create.3529.0
DTSTAMP:20260425T132016Z
DTSTART:20200208T030000Z
DTEND:20200208T060000Z
SUMMARY:HOF & TPOS PRESENT: "OFFLINE" FT. JMSEY
URL;VALUE=URI:https://www.sthope.org/event/hof-tpos-present-offline-ft-jmsey
END:VEVENT
END:VCALENDAR
