BEGIN:VCALENDAR
VERSION:2.0
PRODID:-//Drupal//DD Create//EN
METHOD:PUBLISH
BEGIN:VEVENT
UID:dd_create.3526.0
DTSTAMP:20260425T220723Z
DTSTART:20200202T001500Z
DTEND:20200202T013000Z
SUMMARY:Boys Basketball Championship Game
URL;VALUE=URI:https://www.sthope.org/event/boys-basketball-championship-game
END:VEVENT
END:VCALENDAR
