BEGIN:VCALENDAR
VERSION:2.0
PRODID:-//Drupal//DD Create//EN
METHOD:PUBLISH
BEGIN:VEVENT
UID:dd_create.3516.0
DTSTAMP:20260423T033535Z
DTSTART:20200221T020000Z
DTEND:20200221T033000Z
SUMMARY:A Tribute to Toni Morrison
URL;VALUE=URI:https://www.sthope.org/event/tribute-toni-morrison
END:VEVENT
END:VCALENDAR
