BEGIN:VCALENDAR
VERSION:2.0
PRODID:-//Drupal//DD Create//EN
METHOD:PUBLISH
BEGIN:VEVENT
UID:dd_create.3515.0
DTSTAMP:20260422T003242Z
DTSTART:20200228T020000Z
DTEND:20200228T033000Z
SUMMARY:Book Signing with Dr. Chase Martin Moore "The Emotion, the Tree and Me: Your Guide to Discussing Emotional Health and Wellness with Your Children"
URL;VALUE=URI:https://www.sthope.org/event/book-signing-dr-chase-martin-moore-emotion-tree-and-me-your-guide-discussing-emotional-health
END:VEVENT
END:VCALENDAR
