BEGIN:VCALENDAR
VERSION:2.0
PRODID:-//Drupal//DD Create//EN
METHOD:PUBLISH
BEGIN:VEVENT
UID:dd_create.3506.0
DTSTAMP:20260422T150926Z
DTSTART:20200306T020000Z
DTEND:20200306T033000Z
SUMMARY:Doreen Procope "Be Inspired, To Inspire"
URL;VALUE=URI:https://www.sthope.org/event/doreen-procope-be-inspired-inspire
END:VEVENT
END:VCALENDAR
