BEGIN:VCALENDAR
VERSION:2.0
PRODID:-//Drupal//DD Create//EN
METHOD:PUBLISH
BEGIN:VEVENT
UID:dd_create.3482.0
DTSTAMP:20260423T061610Z
DTSTART:20200112T020000Z
DTEND:20200112T050000Z
SUMMARY:Humanity and the Mural
URL;VALUE=URI:https://www.sthope.org/event/humanity-and-mural
END:VEVENT
END:VCALENDAR
