BEGIN:VCALENDAR
VERSION:2.0
PRODID:-//Drupal//DD Create//EN
METHOD:PUBLISH
BEGIN:VEVENT
UID:dd_create.3480.0
DTSTAMP:20260423T182639Z
DTSTART:20200210T233000Z
DTEND:20200211T013000Z
SUMMARY:Sac High Girls Soccer
URL;VALUE=URI:https://www.sthope.org/sac-high-athletic-event/sac-high-girls-soccer-7
END:VEVENT
END:VCALENDAR
