BEGIN:VCALENDAR
VERSION:2.0
PRODID:-//Drupal//DD Create//EN
METHOD:PUBLISH
BEGIN:VEVENT
UID:dd_create.3459.0
DTSTAMP:20260423T213905Z
DTSTART:20200206T030000Z
DTEND:20200206T050000Z
SUMMARY:Sac High Boys Basketball vs. Vista Del Lago HS
URL;VALUE=URI:https://www.sthope.org/sac-high-athletic-event/sac-high-boys-basketball-vs-vista-del-lago-hs
END:VEVENT
END:VCALENDAR
