BEGIN:VCALENDAR
VERSION:2.0
PRODID:-//Drupal//DD Create//EN
METHOD:PUBLISH
BEGIN:VEVENT
UID:dd_create.3453.0
DTSTAMP:20260423T232243Z
DTSTART:20200111T080000Z
DTEND:20200111T080000Z
SUMMARY:Boys Basketball at Father Kelly Tribute
URL;VALUE=URI:https://www.sthope.org/sac-high-athletic-event/boys-basketball-father-kelly-tribute
END:VEVENT
END:VCALENDAR
