BEGIN:VCALENDAR
VERSION:2.0
PRODID:-//Drupal//DD Create//EN
METHOD:PUBLISH
BEGIN:VEVENT
UID:dd_create.3440.0
DTSTAMP:20260425T184635Z
DTSTART:20200208T030000Z
DTEND:20200208T040000Z
SUMMARY:Sac High Girls Basketball vs. Christian Brothers
URL;VALUE=URI:https://www.sthope.org/sac-high-athletic-event/sac-high-girls-basketball-vs-christian-brothers-1
END:VEVENT
END:VCALENDAR
