BEGIN:VCALENDAR
VERSION:2.0
PRODID:-//Drupal//DD Create//EN
METHOD:PUBLISH
BEGIN:VEVENT
UID:dd_create.3437.0
DTSTAMP:20260423T182605Z
DTSTART:20200128T223000Z
DTEND:20200129T003000Z
SUMMARY:Sac High Girls Basketball vs. Capital Christian
URL;VALUE=URI:https://www.sthope.org/sac-high-athletic-event/sac-high-girls-basketball-vs-capital-christian-1
END:VEVENT
END:VCALENDAR
