BEGIN:VCALENDAR
VERSION:2.0
PRODID:-//Drupal//DD Create//EN
METHOD:PUBLISH
BEGIN:VEVENT
UID:dd_create.3428.0
DTSTAMP:20260423T201335Z
DTSTART:20200109T030000Z
DTEND:20200109T050000Z
SUMMARY:Girls Basketball vs. El Camino
URL;VALUE=URI:https://www.sthope.org/sac-high-athletic-event/girls-basketball-vs-el-camino
END:VEVENT
END:VCALENDAR
