BEGIN:VCALENDAR
VERSION:2.0
PRODID:-//Drupal//DD Create//EN
METHOD:PUBLISH
BEGIN:VEVENT
UID:dd_create.3423.0
DTSTAMP:20260422T171919Z
DTSTART:20200118T220000Z
DTEND:20200119T000000Z
SUMMARY:Kathy Marshall "Finding Daisy"
URL;VALUE=URI:https://www.sthope.org/event/kathy-marshall-finding-daisy
END:VEVENT
END:VCALENDAR
