BEGIN:VCALENDAR
VERSION:2.0
PRODID:-//Drupal//DD Create//EN
METHOD:PUBLISH
BEGIN:VEVENT
UID:dd_create.3414.0
DTSTAMP:20260424T130816Z
DTSTART:20191229T030000Z
DTEND:20191229T060000Z
SUMMARY:Mics and Moods
URL;VALUE=URI:https://www.sthope.org/event/mics-and-moods-1
END:VEVENT
END:VCALENDAR
