BEGIN:VCALENDAR
VERSION:2.0
PRODID:-//Drupal//DD Create//EN
METHOD:PUBLISH
BEGIN:VEVENT
UID:dd_create.3400.0
DTSTAMP:20260425T225924Z
DTSTART:20191113T080000Z
DTEND:20191113T080000Z
SUMMARY:Make-Up School Picture Day
URL;VALUE=URI:https://www.sthope.org/event/make-school-picture-day-0
END:VEVENT
END:VCALENDAR
