BEGIN:VCALENDAR
VERSION:2.0
PRODID:-//Drupal//DD Create//EN
METHOD:PUBLISH
BEGIN:VEVENT
UID:dd_create.3395.0
DTSTAMP:20260423T082401Z
DTSTART:20190911T070000Z
DTEND:20190912T070000Z
SUMMARY:7th Annual Sacramento Black Book Fair
URL;VALUE=URI:https://www.sthope.org/event/7th-annual-sacramento-black-book-fair-0
END:VEVENT
END:VCALENDAR
