BEGIN:VCALENDAR
VERSION:2.0
PRODID:-//Drupal//DD Create//EN
METHOD:PUBLISH
BEGIN:VEVENT
UID:dd_create.3383.0
DTSTAMP:20260421T104402Z
DTSTART:20191107T010000Z
DTEND:20191107T020000Z
SUMMARY:9th Grade Academy Dance Showcase
URL;VALUE=URI:https://www.sthope.org/event/9th-grade-academy-dance-showcase
END:VEVENT
END:VCALENDAR
