BEGIN:VCALENDAR
VERSION:2.0
PRODID:-//Drupal//DD Create//EN
METHOD:PUBLISH
BEGIN:VEVENT
UID:dd_create.3372.0
DTSTAMP:20260420T025834Z
DTSTART:20191209T233000Z
DTEND:20191210T013000Z
SUMMARY:Basketball vs.  Sam Brannan Middle
URL;VALUE=URI:https://www.sthope.org/event/basketball-vs-sam-brannan-middle
END:VEVENT
END:VCALENDAR
