BEGIN:VCALENDAR
VERSION:2.0
PRODID:-//Drupal//DD Create//EN
METHOD:PUBLISH
BEGIN:VEVENT
UID:dd_create.3370.0
DTSTAMP:20260424T055840Z
DTSTART:20191120T233000Z
DTEND:20191121T013000Z
SUMMARY:Basketball at Cal Middle
URL;VALUE=URI:https://www.sthope.org/event/basketball-cal-middle
END:VEVENT
END:VCALENDAR
