BEGIN:VCALENDAR
VERSION:2.0
PRODID:-//Drupal//DD Create//EN
METHOD:PUBLISH
BEGIN:VEVENT
UID:dd_create.3367.0
DTSTAMP:20260425T131443Z
DTSTART:20191104T233000Z
DTEND:20191105T013000Z
SUMMARY:Basketball vs. Einstein
URL;VALUE=URI:https://www.sthope.org/event/basketball-vs-einstein
END:VEVENT
END:VCALENDAR
