BEGIN:VCALENDAR
VERSION:2.0
PRODID:-//Drupal//DD Create//EN
METHOD:PUBLISH
BEGIN:VEVENT
UID:dd_create.3344.0
DTSTAMP:20260426T005426Z
DTSTART:20191022T070000Z
DTEND:20191022T070000Z
SUMMARY:Vision & Hearing Screening Make-Up
URL;VALUE=URI:https://www.sthope.org/event/vision-hearing-screening-make
END:VEVENT
END:VCALENDAR
