BEGIN:VCALENDAR
VERSION:2.0
PRODID:-//Drupal//DD Create//EN
METHOD:PUBLISH
BEGIN:VEVENT
UID:dd_create.3340.0
DTSTAMP:20260426T040731Z
DTSTART:20200125T200000Z
DTEND:20200125T210000Z
SUMMARY:Children's Storytime
URL;VALUE=URI:https://www.sthope.org/event/childrens-storytime-34
END:VEVENT
END:VCALENDAR
