BEGIN:VCALENDAR
VERSION:2.0
PRODID:-//Drupal//DD Create//EN
METHOD:PUBLISH
BEGIN:VEVENT
UID:dd_create.3339.0
DTSTAMP:20260426T011449Z
DTSTART:20191213T020000Z
DTEND:20191213T033000Z
SUMMARY:Judy Fambrough-Billingsley "Too Brown to Keep"
URL;VALUE=URI:https://www.sthope.org/event/judy-fambrough-billingsley-too-brown-keep
END:VEVENT
END:VCALENDAR
