BEGIN:VCALENDAR
VERSION:2.0
PRODID:-//Drupal//DD Create//EN
METHOD:PUBLISH
BEGIN:VEVENT
UID:dd_create.3327.0
DTSTAMP:20260425T171103Z
DTSTART:20191022T011500Z
DTEND:20191022T021500Z
SUMMARY:Sac High Girl's Volleyball vs. Vista Del Lago
URL;VALUE=URI:https://www.sthope.org/event/sac-high-girls-volleyball-vs-vista-del-lago
END:VEVENT
END:VCALENDAR
