BEGIN:VCALENDAR
VERSION:2.0
PRODID:-//Drupal//DD Create//EN
METHOD:PUBLISH
BEGIN:VEVENT
UID:dd_create.3314.0
DTSTAMP:20260425T154621Z
DTSTART:20191002T010000Z
DTEND:20191002T020000Z
SUMMARY:Track and Field Mandatory Meeting
URL;VALUE=URI:https://www.sthope.org/event/track-and-field-mandatory-meeting
END:VEVENT
END:VCALENDAR
