BEGIN:VCALENDAR
VERSION:2.0
PRODID:-//Drupal//DD Create//EN
METHOD:PUBLISH
BEGIN:VEVENT
UID:dd_create.3312.0
DTSTAMP:20260426T023411Z
DTSTART:20191110T033000Z
DTEND:20191110T050000Z
SUMMARY:Remembering James Brown 
URL;VALUE=URI:https://www.sthope.org/event/remembering-james-brown
END:VEVENT
END:VCALENDAR
