BEGIN:VCALENDAR
VERSION:2.0
PRODID:-//Drupal//DD Create//EN
METHOD:PUBLISH
BEGIN:VEVENT
UID:dd_create.3300.0
DTSTAMP:20260423T214849Z
DTSTART:20190927T010000Z
DTEND:20190927T030000Z
SUMMARY:David Fontaine "The Black Financial Literacy and Wealth Building Bible"
URL;VALUE=URI:https://www.sthope.org/event/david-fontaine-black-financial-literacy-and-wealth-building-bible
END:VEVENT
END:VCALENDAR
