BEGIN:VCALENDAR
VERSION:2.0
PRODID:-//Drupal//DD Create//EN
METHOD:PUBLISH
BEGIN:VEVENT
UID:dd_create.3298.0
DTSTAMP:20260419T233256Z
DTSTART:20190909T070000Z
DTEND:20190927T070000Z
SUMMARY:Pennies For Patients Drive
URL;VALUE=URI:https://www.sthope.org/event/pennies-patients-drive
END:VEVENT
END:VCALENDAR
