BEGIN:VCALENDAR
VERSION:2.0
PRODID:-//Drupal//DD Create//EN
METHOD:PUBLISH
BEGIN:VEVENT
UID:dd_create.3293.0
DTSTAMP:20260423T140348Z
DTSTART:20190917T070000Z
DTEND:20190917T070000Z
SUMMARY:Vision & Hearing Screening
URL;VALUE=URI:https://www.sthope.org/event/vision-hearing-screening
END:VEVENT
END:VCALENDAR
