BEGIN:VCALENDAR
VERSION:2.0
PRODID:-//Drupal//DD Create//EN
METHOD:PUBLISH
BEGIN:VEVENT
UID:dd_create.3287.0
DTSTAMP:20260425T203037Z
DTSTART:20190908T000000Z
DTEND:20190908T050000Z
SUMMARY:Day-Cation Party
URL;VALUE=URI:https://www.sthope.org/event/day-cation-party-1
END:VEVENT
END:VCALENDAR
