BEGIN:VCALENDAR
VERSION:2.0
PRODID:-//Drupal//DD Create//EN
METHOD:PUBLISH
BEGIN:VEVENT
UID:dd_create.3281.0
DTSTAMP:20260426T005336Z
DTSTART:20190912T070000Z
DTEND:20190912T070000Z
SUMMARY:Back to School Night
URL;VALUE=URI:https://www.sthope.org/event/back-school-night-5
END:VEVENT
END:VCALENDAR
