BEGIN:VCALENDAR
VERSION:2.0
PRODID:-//Drupal//DD Create//EN
METHOD:PUBLISH
BEGIN:VEVENT
UID:dd_create.3276.0
DTSTAMP:20260423T213627Z
DTSTART:20191026T021500Z
DTEND:20191026T050000Z
SUMMARY:Sac High Football vs. Vista Del Lago HS
URL;VALUE=URI:https://www.sthope.org/event/sac-high-football-vs-vista-del-lago-hs
END:VEVENT
END:VCALENDAR
