BEGIN:VCALENDAR
VERSION:2.0
PRODID:-//Drupal//DD Create//EN
METHOD:PUBLISH
BEGIN:VEVENT
UID:dd_create.3274.0
DTSTAMP:20260421T192426Z
DTSTART:20191012T021500Z
DTEND:20191012T050000Z
SUMMARY:Sac High Football @ Capital Christian HS
URL;VALUE=URI:https://www.sthope.org/event/sac-high-football-capital-christian-hs
END:VEVENT
END:VCALENDAR
