BEGIN:VCALENDAR
VERSION:2.0
PRODID:-//Drupal//DD Create//EN
METHOD:PUBLISH
BEGIN:VEVENT
UID:dd_create.3266.0
DTSTAMP:20260425T143515Z
DTSTART:20200319T070000Z
DTEND:20200330T070000Z
SUMMARY:Spring Break
URL;VALUE=URI:https://www.sthope.org/event/spring-break-1
END:VEVENT
END:VCALENDAR
