BEGIN:VCALENDAR
VERSION:2.0
PRODID:-//Drupal//DD Create//EN
METHOD:PUBLISH
BEGIN:VEVENT
UID:dd_create.3252.0
DTSTAMP:20260422T191056Z
DTSTART:20190809T223000Z
DTEND:20190810T013000Z
SUMMARY:Back to School BBQ
URL;VALUE=URI:https://www.sthope.org/event/back-school-bbq
END:VEVENT
END:VCALENDAR
