BEGIN:VCALENDAR
VERSION:2.0
PRODID:-//Drupal//DD Create//EN
METHOD:PUBLISH
BEGIN:VEVENT
UID:dd_create.3248.0
DTSTAMP:20260422T114542Z
DTSTART:20190907T010000Z
DTEND:20190907T040000Z
SUMMARY:Silent Disco Party
URL;VALUE=URI:https://www.sthope.org/event/silent-disco-party-0
END:VEVENT
END:VCALENDAR
