BEGIN:VCALENDAR
VERSION:2.0
PRODID:-//Drupal//DD Create//EN
METHOD:PUBLISH
BEGIN:VEVENT
UID:dd_create.3246.0
DTSTAMP:20260425T143506Z
DTSTART:20190825T020000Z
DTEND:20190825T050000Z
SUMMARY:Comedy Night at the Guild Theater
URL;VALUE=URI:https://www.sthope.org/event/comedy-night-guild-theater-2
END:VEVENT
END:VCALENDAR
