BEGIN:VCALENDAR
VERSION:2.0
PRODID:-//Drupal//DD Create//EN
METHOD:PUBLISH
BEGIN:VEVENT
UID:dd_create.3243.0
DTSTAMP:20260425T215952Z
DTSTART:20190811T020000Z
DTEND:20190811T060000Z
SUMMARY:"OFFLINE" Ft. Nate Curry
URL;VALUE=URI:https://www.sthope.org/event/offline-ft-nate-curry
END:VEVENT
END:VCALENDAR
