BEGIN:VCALENDAR
VERSION:2.0
PRODID:-//Drupal//DD Create//EN
METHOD:PUBLISH
BEGIN:VEVENT
UID:dd_create.3223.0
DTSTAMP:20260423T151349Z
DTSTART:20190803T010000Z
DTEND:20190803T033000Z
SUMMARY:Men's Night Special
URL;VALUE=URI:https://www.sthope.org/event/mens-night-special
END:VEVENT
END:VCALENDAR
