BEGIN:VCALENDAR
VERSION:2.0
PRODID:-//Drupal//DD Create//EN
METHOD:PUBLISH
BEGIN:VEVENT
UID:dd_create.3217.0
DTSTAMP:20260422T060603Z
DTSTART:20190824T190000Z
DTEND:20190824T200000Z
SUMMARY:Children's Storytime
URL;VALUE=URI:https://www.sthope.org/event/childrens-storytime-30
END:VEVENT
END:VCALENDAR
