BEGIN:VCALENDAR
VERSION:2.0
PRODID:-//Drupal//DD Create//EN
METHOD:PUBLISH
BEGIN:VEVENT
UID:dd_create.3190.0
DTSTAMP:20260424T130621Z
DTSTART:20190803T210000Z
DTEND:20190803T230000Z
SUMMARY:"Wicked Sacramento" by William Burg
URL;VALUE=URI:https://www.sthope.org/event/wicked-sacramento-william-burg
END:VEVENT
END:VCALENDAR
