BEGIN:VCALENDAR
VERSION:2.0
PRODID:-//Drupal//DD Create//EN
METHOD:PUBLISH
BEGIN:VEVENT
UID:dd_create.3123.0
DTSTAMP:20260422T141925Z
DTSTART:20190413T010000Z
DTEND:20190413T040000Z
SUMMARY:SAYS Youth Poetry Slam
URL;VALUE=URI:https://www.sthope.org/event/says-youth-poetry-slam
END:VEVENT
END:VCALENDAR
