BEGIN:VCALENDAR
VERSION:2.0
PRODID:-//Drupal//DD Create//EN
METHOD:PUBLISH
BEGIN:VEVENT
UID:dd_create.3107.0
DTSTAMP:20260426T042940Z
DTSTART:20190418T230000Z
DTEND:20190419T020000Z
SUMMARY:Oak Park Block Party
URL;VALUE=URI:https://www.sthope.org/event/oak-park-block-party
END:VEVENT
END:VCALENDAR
