BEGIN:VCALENDAR
VERSION:2.0
PRODID:-//Drupal//DD Create//EN
METHOD:PUBLISH
BEGIN:VEVENT
UID:dd_create.3077.0
DTSTAMP:20260423T195954Z
DTSTART:20190423T230000Z
DTEND:20190424T010000Z
SUMMARY:Sac High Baseball 
URL;VALUE=URI:https://www.sthope.org/sac-high-athletic-event/sac-high-baseball-13
END:VEVENT
END:VCALENDAR
