BEGIN:VCALENDAR
VERSION:2.0
PRODID:-//Drupal//DD Create//EN
METHOD:PUBLISH
BEGIN:VEVENT
UID:dd_create.3073.0
DTSTAMP:20260425T132547Z
DTSTART:20190405T230000Z
DTEND:20190406T010000Z
SUMMARY:Sac High Baseball 
URL;VALUE=URI:https://www.sthope.org/sac-high-athletic-event/sac-high-baseball-9
END:VEVENT
END:VCALENDAR
