BEGIN:VCALENDAR
VERSION:2.0
PRODID:-//Drupal//DD Create//EN
METHOD:PUBLISH
BEGIN:VEVENT
UID:dd_create.3036.0
DTSTAMP:20260424T025003Z
DTSTART:20190308T233000Z
DTEND:20190309T013000Z
SUMMARY:Sac High Softball 
URL;VALUE=URI:https://www.sthope.org/sac-high-athletic-event/sac-high-softball-5
END:VEVENT
END:VCALENDAR
