BEGIN:VCALENDAR
VERSION:2.0
PRODID:-//Drupal//DD Create//EN
METHOD:PUBLISH
BEGIN:VEVENT
UID:dd_create.3034.0
DTSTAMP:20260426T033013Z
DTSTART:20190306T000000Z
DTEND:20190306T020000Z
SUMMARY:Sac High Softball 
URL;VALUE=URI:https://www.sthope.org/sac-high-athletic-event/sac-high-softball-3
END:VEVENT
END:VCALENDAR
